BEGIN:VCALENDAR
VERSION:2.0
PRODID:-//Girlguiding Lancashire Border - ECPv6.15.20//NONSGML v1.0//EN
CALSCALE:GREGORIAN
METHOD:PUBLISH
X-ORIGINAL-URL:https://girlguidinglancsborder.org
X-WR-CALDESC:Events for Girlguiding Lancashire Border
REFRESH-INTERVAL;VALUE=DURATION:PT1H
X-Robots-Tag:noindex
X-PUBLISHED-TTL:PT1H
BEGIN:VTIMEZONE
TZID:Europe/London
BEGIN:DAYLIGHT
TZOFFSETFROM:+0000
TZOFFSETTO:+0100
TZNAME:BST
DTSTART:20250330T010000
END:DAYLIGHT
BEGIN:STANDARD
TZOFFSETFROM:+0100
TZOFFSETTO:+0000
TZNAME:GMT
DTSTART:20251026T010000
END:STANDARD
BEGIN:DAYLIGHT
TZOFFSETFROM:+0000
TZOFFSETTO:+0100
TZNAME:BST
DTSTART:20260329T010000
END:DAYLIGHT
BEGIN:STANDARD
TZOFFSETFROM:+0100
TZOFFSETTO:+0000
TZNAME:GMT
DTSTART:20261025T010000
END:STANDARD
BEGIN:DAYLIGHT
TZOFFSETFROM:+0000
TZOFFSETTO:+0100
TZNAME:BST
DTSTART:20270328T010000
END:DAYLIGHT
BEGIN:STANDARD
TZOFFSETFROM:+0100
TZOFFSETTO:+0000
TZNAME:GMT
DTSTART:20271031T010000
END:STANDARD
END:VTIMEZONE
BEGIN:VEVENT
DTSTART;TZID=Europe/London:20260208T093000
DTEND;TZID=Europe/London:20260208T153000
DTSTAMP:20260423T133534
CREATED:20260103T140603Z
LAST-MODIFIED:20260103T142058Z
UID:10000057-1770543000-1770564600@girlguidinglancsborder.org
SUMMARY:First Response Sunday 8 February 2026 9.30am-3.30pm County HQ
DESCRIPTION:First response for Girlguiding leaders\, Young leaders.  Bring packed lunch\,  Tea/coffee/juice provided.  Wear uniform or comfortable clothing. \nEmail: ginajames1@yahoo.co.uk to book a place.
URL:https://girlguidinglancsborder.org/event/first-response-sunday-8-february-2026-9-30am-3-30pm-county-hq/
LOCATION:County HQ\, Shepherd Cross Street\, Bolton
CATEGORIES:First Response
END:VEVENT
END:VCALENDAR